BEGIN:VCALENDAR
VERSION:2.0
PRODID:-//actionsc.org - ECPv6.15.20//NONSGML v1.0//EN
CALSCALE:GREGORIAN
METHOD:PUBLISH
X-WR-CALNAME:actionsc.org
X-ORIGINAL-URL:https://actionsc.org
X-WR-CALDESC:Events for actionsc.org
REFRESH-INTERVAL;VALUE=DURATION:PT1H
X-Robots-Tag:noindex
X-PUBLISHED-TTL:PT1H
BEGIN:VTIMEZONE
TZID:UTC
BEGIN:STANDARD
TZOFFSETFROM:+0000
TZOFFSETTO:+0000
TZNAME:UTC
DTSTART:20210101T000000
END:STANDARD
END:VTIMEZONE
BEGIN:VTIMEZONE
TZID:America/New_York
BEGIN:DAYLIGHT
TZOFFSETFROM:-0500
TZOFFSETTO:-0400
TZNAME:EDT
DTSTART:20210314T070000
END:DAYLIGHT
BEGIN:STANDARD
TZOFFSETFROM:-0400
TZOFFSETTO:-0500
TZNAME:EST
DTSTART:20211107T060000
END:STANDARD
BEGIN:DAYLIGHT
TZOFFSETFROM:-0500
TZOFFSETTO:-0400
TZNAME:EDT
DTSTART:20220313T070000
END:DAYLIGHT
BEGIN:STANDARD
TZOFFSETFROM:-0400
TZOFFSETTO:-0500
TZNAME:EST
DTSTART:20221106T060000
END:STANDARD
BEGIN:DAYLIGHT
TZOFFSETFROM:-0500
TZOFFSETTO:-0400
TZNAME:EDT
DTSTART:20230312T070000
END:DAYLIGHT
BEGIN:STANDARD
TZOFFSETFROM:-0400
TZOFFSETTO:-0500
TZNAME:EST
DTSTART:20231105T060000
END:STANDARD
END:VTIMEZONE
BEGIN:VEVENT
DTSTART;TZID=UTC:20220623T190000
DTEND;TZID=UTC:20220623T210000
DTSTAMP:20260423T165545
CREATED:20220613T142037Z
LAST-MODIFIED:20220620T181027Z
UID:1348-1656010800-1656018000@actionsc.org
SUMMARY:Abolish Abortion Forum
DESCRIPTION:On Thursday SCOTUS is expected to announce their decision about handing abortion legislation back to the states. We here in SC want to be ready to address this monumental issue. Come learn what our speakers have to say about ending abortion\, once and for all in SC! You can be the best informed person at work\, the family dinner table or at church. Dr. Robert Jackson will explain the moral imperative we have to protect life at conception. SC State Senator Richard Cash and myself will be examining proposed legislation in the SC House and Senate. Then\, pastor Ben Gardner will walk us through how to help women on the precipice of taking or preserving the life of their unborn baby and how to push back against the forces working against us. As citizens we need to take ACTION on all this great information. Please make time now to attend this information-packed forum and invite others who want to join the fight! Call or text 864-542-5036 with questions.
URL:https://actionsc.org/event/abolish-abortion-forum/
LOCATION:Cornerstone Real Estate Group\, 100 Inman Rd\, Lyman\, SC\, 29365\, United States
ATTACH;FMTTYPE=image/jpeg:https://actionsc.org/wp-content/uploads/2022/06/Baby.jpg
ORGANIZER;CN="actionsc.org":MAILTO:info@actionsc.org
END:VEVENT
BEGIN:VEVENT
DTSTART;TZID=UTC:20220621T190000
DTEND;TZID=UTC:20220621T210000
DTSTAMP:20260423T165545
CREATED:20220620T014535Z
LAST-MODIFIED:20220620T014535Z
UID:1356-1655838000-1655845200@actionsc.org
SUMMARY:Spartanburg Christian Action Network
DESCRIPTION:
URL:https://actionsc.org/event/spartanburg-christian-action-network-2/
LOCATION:Covenant Baptist Church – Family Life Center\, 200 Evangel Rd\, Spartanburg\, SC\, 29301\, United States
ATTACH;FMTTYPE=image/jpeg:https://actionsc.org/wp-content/uploads/2022/06/SpartCAN-6.19.22.jpg
ORGANIZER;CN="Spartanburg Christian Action Network":MAILTO:Spartcan@protonmail.com
END:VEVENT
BEGIN:VEVENT
DTSTART;VALUE=DATE:20220505
DTEND;VALUE=DATE:20220508
DTSTAMP:20260423T165545
CREATED:20220101T230445Z
LAST-MODIFIED:20220117T164115Z
UID:905-1651708800-1651967999@actionsc.org
SUMMARY:Rock The Red
DESCRIPTION:ROCK THE RED USA! The premier event in SC that educates\, motivates\, and activates citizens and patriots from around the country to get involved in the affairs of their local\, state\, and national governments.
URL:https://actionsc.org/event/rock-the-red/
LOCATION:Embassy Suites\, Greenville\, 670 VERDAE BLVD\, Greenville\, SC\, 29607\, United States
ATTACH;FMTTYPE=image/jpeg:https://actionsc.org/wp-content/uploads/2022/01/Rock-The-Red.jpg
END:VEVENT
BEGIN:VEVENT
DTSTART;TZID=UTC:20220324T181500
DTEND;TZID=UTC:20220324T193000
DTSTAMP:20260423T165545
CREATED:20220125T024903Z
LAST-MODIFIED:20220322T123706Z
UID:1261-1648145700-1648150200@actionsc.org
SUMMARY:Fairforest Elementary Precinct Meeting
DESCRIPTION:ATTENTION!!! \nTHE FAIRFOREST ELEMENTARY PRECINCT MEETING IS BEING MOVED TO THE SPARTANBURG COUNTY COUNCIL CHAMBERS.  THE SPARTANBURG GOP GAVE ONLY FOUR DAYS NOTICE ABOUT THE DATE OF THEIR QUARTERLY MEETING AND PLANNED IT FOR THE SAME DAY AS FEP’S REGULARLY SCHEDULED MONTHLY PRECINCT MEETING.  THIS PRECINCT HAS ACTIVELY ENGAGED THE GOP AND WILL BE DOING THE SAME THIS THURSDAY!  PLEASE USE YOUR HUMAN AGENCY BY SHOWING UP AND SUPPORTING FAIRFOREST ELEMENARY PRECINCT! \n  \nMAGA-minded action takers welcome!  This is the regular monthly meeting(4th Tuesday of each month) of the Fairforest Elementary precinct in Spartanburg County\, SC.  We are an action-oriented GOP precinct\, in the heart of Spartanburg county. \nIf you belong to a precinct which isn’t doing anything or are an officer of precinct who is part of the establishment\, then this meeting may be for you! \nCome and have input in the process and get regular briefings from the Spartanburg County GOP meetings. \nWe’re here to ‘move the needle’ and have have already executed some significant achievements.  So\, come ‘roll up your sleeves’ with us at these and other regular events!
URL:https://actionsc.org/event/fairforest-elementary-precinct-meeting-4/
LOCATION:Spartanburg County Council Chambers\, 366 N Church St\, Spartanburg\, SC\, 29303\, United States
ATTACH;FMTTYPE=image/jpeg:https://actionsc.org/wp-content/uploads/2022/01/GOP-Notice.jpg
ORGANIZER;CN="actionsc.org":MAILTO:admin@actionsc.org
END:VEVENT
BEGIN:VEVENT
DTSTART;TZID=UTC:20220315T190000
DTEND;TZID=UTC:20220315T210000
DTSTAMP:20260423T165545
CREATED:20220226T013609Z
LAST-MODIFIED:20220226T013609Z
UID:1305-1647370800-1647378000@actionsc.org
SUMMARY:SpartanCAN
DESCRIPTION:
URL:https://actionsc.org/event/spartancan-2/
LOCATION:Covenant Baptist Church – Family Life Center\, 200 Evangel Rd\, Spartanburg\, SC\, 29301\, United States
ATTACH;FMTTYPE=image/jpeg:https://actionsc.org/wp-content/uploads/2022/01/SpartanCAN-Logo.jpg
ORGANIZER;CN="Spartanburg Christian Action Network":MAILTO:Spartcan@protonmail.com
END:VEVENT
BEGIN:VEVENT
DTSTART;TZID=UTC:20220310T190000
DTEND;TZID=UTC:20220310T210000
DTSTAMP:20260423T165545
CREATED:20220119T011119Z
LAST-MODIFIED:20220226T044831Z
UID:1108-1646938800-1646946000@actionsc.org
SUMMARY:ActionSC.org Speaker Forum
DESCRIPTION:This month\, you can meet Attorney Stephen Brown who will discuss the history of open primaries in SC and his own dramatic struggle to get them closed!  You will be shocked to learn how the SCGOP itself undermined this very important initiative and some of the names involved may surprise you as well! Mr. Brown is an accomplished litigator with a history of political experience including candidacies for both Congress and Senate.  He has served the Greenville County GOP as both past Chairman and current EC.  You won’t want to miss this meeting! \nThis is your monthly opportunity to hear action-oriented individuals speak on topics important to folks in the Upstate.  Subject matter experts will inform you\, enlighten you and most importantly EQUIP you to use your own human agency!
URL:https://actionsc.org/event/actionsc-org/
LOCATION:Cornerstone Real Estate Group\, 100 Inman Rd\, Lyman\, SC\, 29365\, United States
ATTACH;FMTTYPE=image/png:https://actionsc.org/wp-content/uploads/2022/01/Stephen-Brown-1.png
ORGANIZER;CN="actionsc.org":MAILTO:info@actionsc.org
END:VEVENT
BEGIN:VEVENT
DTSTART;TZID=UTC:20220308T190000
DTEND;TZID=UTC:20220308T210000
DTSTAMP:20260423T165545
CREATED:20220125T024413Z
LAST-MODIFIED:20220125T024413Z
UID:1256-1646766000-1646773200@actionsc.org
SUMMARY:The Constitution Is The Solution
DESCRIPTION:Six-week constitution class moderated by Andy Davis.  One night each week for six weeks.  Produced by the John Birch Society. \nSpace is limited\, so call Andy at 864-237-0495 or email pfpatriots@protonmail.com to reserve you spot!
URL:https://actionsc.org/event/the-constitution-is-the-solution-6/
LOCATION:SC
ATTACH;FMTTYPE=image/png:https://actionsc.org/wp-content/uploads/2022/01/Constitution.png
END:VEVENT
BEGIN:VEVENT
DTSTART;TZID=UTC:20220301T080000
DTEND;TZID=UTC:20220301T170000
DTSTAMP:20260423T165545
CREATED:20220125T024319Z
LAST-MODIFIED:20220125T024319Z
UID:1254-1646121600-1646154000@actionsc.org
SUMMARY:The Constitution Is The Solution
DESCRIPTION:Six-week constitution class moderated by Andy Davis.  One night each week for six weeks.  Produced by the John Birch Society. \nSpace is limited\, so call Andy at 864-237-0495 or email pfpatriots@protonmail.com to reserve you spot!
URL:https://actionsc.org/event/the-constitution-is-the-solution-5/
LOCATION:SC
ATTACH;FMTTYPE=image/png:https://actionsc.org/wp-content/uploads/2022/01/Constitution.png
END:VEVENT
BEGIN:VEVENT
DTSTART;TZID=UTC:20220224T190000
DTEND;TZID=UTC:20220224T210000
DTSTAMP:20260423T165545
CREATED:20220117T172059Z
LAST-MODIFIED:20220222T024331Z
UID:1095-1645729200-1645736400@actionsc.org
SUMMARY:Fairforest Elementary Precinct Meeting
DESCRIPTION:MAGA-minded action takers welcome!  This is the regular monthly meeting(4th Tuesday of each month) of the Fairforest Elementary precinct in Spartanburg County\, SC.  We are an action-oriented GOP precinct\, in the heart of Spartanburg county. \nThis month\, we are please to host guest speakers who will explain the connection between the U.N.’s Agenda 21\, Agenda 2030 and Green New Deal!  Join us as Mike Brady and former State Senator Lee Bright ‘connect the dots’ for us\, including the One Spartanburg’s role in promoting these agendas.  The ‘Comprehensive Plan’ of land management is a way of rolling this out and local governing bodies have all signed on.  It’s our job to expose this insidious plan! \nCounty Council members and local politicians are invited and welcome to this vital information! \nIf you belong to a precinct which isn’t doing anything or are an officer of precinct who is part of the establishment\, then this meeting may be for you! \nCome and have input in the process and get regular briefings from the Spartanburg County GOP meetings. \nWe’re here to ‘move the needle’ and have have already executed some significant achievements.  So\, come ‘roll up your sleeves’ with us at these and other regular events!
URL:https://actionsc.org/event/fairforest-elementary-precinct-meeting-3/
LOCATION:Cornerstone Real Estate Group\, 100 Inman Rd\, Lyman\, SC\, 29365\, United States
ATTACH;FMTTYPE=image/png:https://actionsc.org/wp-content/uploads/2022/01/Agenda-2030.png
ORGANIZER;CN="actionsc.org":MAILTO:admin@actionsc.org
END:VEVENT
BEGIN:VEVENT
DTSTART;TZID=UTC:20220222T190000
DTEND;TZID=UTC:20220222T210000
DTSTAMP:20260423T165545
CREATED:20220125T024222Z
LAST-MODIFIED:20220125T024222Z
UID:1252-1645556400-1645563600@actionsc.org
SUMMARY:The Constitution Is The Solution
DESCRIPTION:Six-week constitution class moderated by Andy Davis.  One night each week for six weeks.  Produced by the John Birch Society. \nSpace is limited\, so call Andy at 864-237-0495 or email pfpatriots@protonmail.com to reserve you spot!
URL:https://actionsc.org/event/the-constitution-is-the-solution-4/
LOCATION:SC
ATTACH;FMTTYPE=image/png:https://actionsc.org/wp-content/uploads/2022/01/Constitution.png
END:VEVENT
BEGIN:VEVENT
DTSTART;TZID=UTC:20220215T190000
DTEND;TZID=UTC:20220215T210000
DTSTAMP:20260423T165545
CREATED:20220212T231134Z
LAST-MODIFIED:20220212T231134Z
UID:1294-1644951600-1644958800@actionsc.org
SUMMARY:SpartanCAN
DESCRIPTION:This is the regular monthly grassroots meeting of Spartanburg Christian Action Network.  This month we’ll be addressing the recent SC canvass of the 2020 election\, legislative actions and more on medical freedom in SC! You won’t want to miss it!
URL:https://actionsc.org/event/spartancan/
LOCATION:Covenant Baptist Church – Family Life Center\, 200 Evangel Rd\, Spartanburg\, SC\, 29301\, United States
ATTACH;FMTTYPE=image/jpeg:https://actionsc.org/wp-content/uploads/2022/02/SpartCAN-2.15.22.jpg
END:VEVENT
BEGIN:VEVENT
DTSTART;TZID=UTC:20220215T190000
DTEND;TZID=UTC:20220215T210000
DTSTAMP:20260423T165545
CREATED:20220125T024131Z
LAST-MODIFIED:20220125T024131Z
UID:1250-1644951600-1644958800@actionsc.org
SUMMARY:The Constitution Is The Solution
DESCRIPTION:Six-week constitution class moderated by Andy Davis.  One night each week for six weeks.  Produced by the John Birch Society. \nSpace is limited\, so call Andy at 864-237-0495 or email pfpatriots@protonmail.com to reserve you spot!
URL:https://actionsc.org/event/the-constitution-is-the-solution-3/
LOCATION:SC
ATTACH;FMTTYPE=image/png:https://actionsc.org/wp-content/uploads/2022/01/Constitution.png
END:VEVENT
BEGIN:VEVENT
DTSTART;TZID=UTC:20220210T190000
DTEND;TZID=UTC:20220210T210000
DTSTAMP:20260423T165545
CREATED:20220119T010848Z
LAST-MODIFIED:20220208T120446Z
UID:1104-1644519600-1644526800@actionsc.org
SUMMARY:ActionSC.org Speaker Forum
DESCRIPTION:This month\, ActionSC.org is hosting SC Safe Elections speaker Laura Scharr\, co-organizer for the recent SC canvassing effort.  Join us to ‘drill down’ on the findings from the eight-county canvass that was presented in Columbia this past Saturday.  What happened in Spartanburg and across the state is disturbing! Legislators and law enforcement leaders are encouraged to attend. Don’t miss this important opportunity!
URL:https://actionsc.org/event/actionsc-org-speaker-forum/
LOCATION:Cornerstone Real Estate Group\, 100 Inman Rd\, Lyman\, SC\, 29365\, United States
ATTACH;FMTTYPE=image/png:https://actionsc.org/wp-content/uploads/2022/01/SCSafe.png
ORGANIZER;CN="actionsc.org":MAILTO:admin@actionsc.org
END:VEVENT
BEGIN:VEVENT
DTSTART;TZID=UTC:20220208T190000
DTEND;TZID=UTC:20220208T210000
DTSTAMP:20260423T165545
CREATED:20220125T023947Z
LAST-MODIFIED:20220125T023947Z
UID:1247-1644346800-1644354000@actionsc.org
SUMMARY:The Constitution Is The Solution
DESCRIPTION:Six-week constitution class moderated by Andy Davis.  One night each week for six weeks.  Produced by the John Birch Society. \nSpace is limited\, so call Andy at 864-237-0495 or email pfpatriots@protonmail.com to reserve you spot!
URL:https://actionsc.org/event/the-constitution-is-the-solution-2/
LOCATION:SC
ATTACH;FMTTYPE=image/png:https://actionsc.org/wp-content/uploads/2022/01/Constitution.png
END:VEVENT
BEGIN:VEVENT
DTSTART;TZID=UTC:20220207T173000
DTEND;TZID=UTC:20220207T193000
DTSTAMP:20260423T165545
CREATED:20220126T014351Z
LAST-MODIFIED:20220126T014351Z
UID:1266-1644255000-1644262200@actionsc.org
SUMMARY:Spartanburg County Legislative Delegation Meeting
DESCRIPTION:NOTICE: The Spartanburg County Legislative Delegation meeting for February 7\, 2022 at 5:30 p.m. will be held at the Spartanburg County Council Chambers on 366 North Church Street\, Spartanburg\, SC 29303. Masks are not mandatory and never were from the Delegation.
URL:https://actionsc.org/event/spartanburg-county-legislative-delegation-meeting/
LOCATION:Spartanburg County Coucil Chambers\, 366 North Church St\, Spartanburg\, SC\, 29303\, United States
ATTACH;FMTTYPE=image/jpeg:https://actionsc.org/wp-content/uploads/2022/01/SC-State-Capital.jpg
END:VEVENT
BEGIN:VEVENT
DTSTART;TZID=UTC:20220201T190000
DTEND;TZID=UTC:20220201T203000
DTSTAMP:20260423T165545
CREATED:20220117T165145Z
LAST-MODIFIED:20220117T165145Z
UID:1089-1643742000-1643747400@actionsc.org
SUMMARY:The Constitution Is The Solution
DESCRIPTION:Six-week constitution class moderated by Andy Davis.  One night each week for six weeks.  Produced by the John Birch Society. \nSpace is limited\, so call Andy at 864-237-0495 or email pfpatriots@protonmail.com to reserve you spot!
URL:https://actionsc.org/event/the-constitution-is-the-solution/
LOCATION:SC
ATTACH;FMTTYPE=image/png:https://actionsc.org/wp-content/uploads/2022/01/Constitution.png
END:VEVENT
BEGIN:VEVENT
DTSTART;TZID=UTC:20220127T190000
DTEND;TZID=UTC:20220127T210000
DTSTAMP:20260423T165545
CREATED:20220117T171853Z
LAST-MODIFIED:20220117T172738Z
UID:1093-1643310000-1643317200@actionsc.org
SUMMARY:Fairforest Elementary Precinct Meeting
DESCRIPTION:MAGA-minded action takers welcome!  This is the regular monthly meeting of the Fairforest Elementary precinct in Spartanburg County\, SC.  We are an action-oriented GOP precinct\, near the center of the county. \nIf you belong to a precinct which isn’t doing anything or are an officer of precinct who is part of the RINO establishment\, then this meeting may be for you! \nCome and have input in the process and get regular briefings from the Spartanburg County GOP meetings. \nWe’re here to ‘move the needle’ and have have already executed some significant achievements.  So\, come ‘roll up your sleeves’ with us at these and other regular events!
URL:https://actionsc.org/event/fairforest-elementary-precinct-meeting-2/
LOCATION:Cornerstone Real Estate Group\, 100 Inman Rd\, Lyman\, SC\, 29365\, United States
ATTACH;FMTTYPE=image/png:https://actionsc.org/wp-content/uploads/2021/12/declaration-of-independence-united-states-america-5000360.png
ORGANIZER;CN="Fairforest Elementary Precinct":MAILTO:admin@actionsc.org
END:VEVENT
BEGIN:VEVENT
DTSTART;TZID=UTC:20220120T190000
DTEND;TZID=UTC:20220120T203000
DTSTAMP:20260423T165545
CREATED:20220117T160155Z
LAST-MODIFIED:20220118T233139Z
UID:1078-1642705200-1642710600@actionsc.org
SUMMARY:Spartanburg Christian Action Network
DESCRIPTION:THIS MEETING HAS BEEN RESCHEDULED FROM 1/18/22\, DUE TO WEATHER. \nMonthly meeting of this grassroots group located in the Spartanburg area of SC. \nAgenda \n\nPolitical Watch Agenda 21 Commission(Mike Brady)\nTraining for Kingdom activism and political involvement\nUpdates:\n\nMedicalFreedom Committee\nEFAC\nSupport Your Local Police
URL:https://actionsc.org/event/spartanburg-christian-action-network/
LOCATION:Covenant Baptist Church – Family Life Center\, 200 Evangel Rd\, Spartanburg\, SC\, 29301\, United States
ATTACH;FMTTYPE=image/jpeg:https://actionsc.org/wp-content/uploads/2022/01/SpartanCAN-Logo.jpg
ORGANIZER;CN="Spartanburg Christian Action Network":MAILTO:Spartcan@protonmail.com
END:VEVENT
BEGIN:VEVENT
DTSTART;TZID=UTC:20220113T190000
DTEND;TZID=UTC:20220113T203000
DTSTAMP:20260423T165545
CREATED:20211228T040612Z
LAST-MODIFIED:20220119T011601Z
UID:891-1642100400-1642105800@actionsc.org
SUMMARY:ActionSC.org Speaker Forum
DESCRIPTION:Monthly meeting for Upstate action-takers interested in promoting MAGA/America 1st issues and networking with others of like mind.   A fast-paced\, format of subject matter experts presenting actionable information crucial to ‘moving the needle’ on issue affecting those of Spartanburg County and the entire upstate of South Carolina! \nThis meeting’s guests include: \n  \n\nDanny Blackwell – Spartanburg Co. Deputy and ‘Sons of Confederate Soldiers’ explaining the historic ‘Black Robe Regiments’ and what citizens can do today.\nEvan Mulch – JBS.org Field Director connecting the truths of our Constitution to the policies of our local and state government.\nDr Robert Jackson – Medical Freedom Advocate – with the latest trends on mandates and what we can do about them.\nHarrison ‘Trucker Bob’ Musselwhite – ‘We The People’ Candidate for SC Governor – Platform presentation and how it affects you!\nZoe Warren –‘We The People’ Candidate for SC Lt. Governor –Platform presentation and how to get involved.
URL:https://actionsc.org/event/actionsc/
LOCATION:Cornerstone Real Estate Group\, 100 Inman Rd\, Lyman\, SC\, 29365\, United States
CATEGORIES:Political
ATTACH;FMTTYPE=image/jpeg:https://actionsc.org/wp-content/uploads/2021/12/Event-1.jpg
ORGANIZER;CN="actionsc.org":MAILTO:info@actionsc.org
END:VEVENT
BEGIN:VEVENT
DTSTART;TZID=UTC:20220113T183000
DTEND;TZID=UTC:20220113T190000
DTSTAMP:20260423T165545
CREATED:20211228T025030Z
LAST-MODIFIED:20220105T032911Z
UID:859-1642098600-1642100400@actionsc.org
SUMMARY:Fairforest Elementary Precinct Meeting
DESCRIPTION:Sponsored by ActionSC.org\, Fairforest Elementary Precinct(FEP) in Spartanburg will be holding it’s first PUBLIC precinct meeting\, just prior to the ActionSC.org meeting.  Here you can get first-hand updates about how this MAGA precinct is ‘moving the needle’ in Spartanburg.  We want you to have a ‘place at the table’.  Here’s what’s on the agenda: \n  \n\nDebrief from the last Spartanburg Co. GOP meeting\nCurrent actions taken by FEP\n‘Oversight’ Committee updates\nPublic input to be presented at next County GOP meeting
URL:https://actionsc.org/event/fairforest-elementary-precinct-meeting/
LOCATION:Cornerstone Real Estate Group\, 100 Inman Rd\, Lyman\, SC\, 29365\, United States
CATEGORIES:Political
ATTACH;FMTTYPE=image/png:https://actionsc.org/wp-content/uploads/2021/12/declaration-of-independence-united-states-america-5000360.png
ORGANIZER;CN="Fairforest Elementary Precinct":MAILTO:admin@actionsc.org
END:VEVENT
END:VCALENDAR